BEGIN:VCALENDAR
VERSION:2.0
PRODID:-//Black Star Farms - ECPv6.15.20//NONSGML v1.0//EN
CALSCALE:GREGORIAN
METHOD:PUBLISH
X-WR-CALNAME:Black Star Farms
X-ORIGINAL-URL:https://blackstarfarms.com
X-WR-CALDESC:Events for Black Star Farms
REFRESH-INTERVAL;VALUE=DURATION:PT1H
X-Robots-Tag:noindex
X-PUBLISHED-TTL:PT1H
BEGIN:VTIMEZONE
TZID:America/New_York
BEGIN:DAYLIGHT
TZOFFSETFROM:-0500
TZOFFSETTO:-0400
TZNAME:EDT
DTSTART:20250309T070000
END:DAYLIGHT
BEGIN:STANDARD
TZOFFSETFROM:-0400
TZOFFSETTO:-0500
TZNAME:EST
DTSTART:20251102T060000
END:STANDARD
BEGIN:DAYLIGHT
TZOFFSETFROM:-0500
TZOFFSETTO:-0400
TZNAME:EDT
DTSTART:20260308T070000
END:DAYLIGHT
BEGIN:STANDARD
TZOFFSETFROM:-0400
TZOFFSETTO:-0500
TZNAME:EST
DTSTART:20261101T060000
END:STANDARD
BEGIN:DAYLIGHT
TZOFFSETFROM:-0500
TZOFFSETTO:-0400
TZNAME:EDT
DTSTART:20270314T070000
END:DAYLIGHT
BEGIN:STANDARD
TZOFFSETFROM:-0400
TZOFFSETTO:-0500
TZNAME:EST
DTSTART:20271107T060000
END:STANDARD
END:VTIMEZONE
BEGIN:VEVENT
DTSTART;TZID=America/New_York:20260425T110000
DTEND;TZID=America/New_York:20260425T123000
DTSTAMP:20260425T064437
CREATED:20260331T211925Z
LAST-MODIFIED:20260424T153830Z
UID:10001028-1777114800-1777120200@blackstarfarms.com
SUMMARY:Spring School Series: Croissant Dough Class
DESCRIPTION:Take your baking—and your appreciation for buttered layers—to new heights in this hands-on\, fast-paced workshop. You’ll explore the art of laminated doughs by working with puff pastry\, rough puff\, and croissant dough\, learning what sets each apart and why technique and temperature matter so much. Discover the baker’s secrets behind lamination\, folds\, butter management\, and egg washing while shaping croissants and preparing doughs you can finish at home. \nAlong the way\, enjoy guided tips\, tasting\, and small sips of BSF wine as the pastries bake to golden perfection. It’s tactile\, indulgent\, and designed to leave your baking repertoire forever flakier
URL:https://blackstarfarms.com/experience/spring-school-series-croissant-dough-class-4-25-2026/
LOCATION:Bistro Polaris at Black Star Farms\, 10844 E Revold Rd\, Suttons Bay\, MI\, United States
CATEGORIES:Cooking Class,Workshops
ATTACH;FMTTYPE=image/png:https://e2zkddy7twc.exactdn.com/wp-content/uploads/2026/01/Winter-School-Divine-Dough.png
GEO:44.935797;-85.633652
X-APPLE-STRUCTURED-LOCATION;VALUE=URI;X-ADDRESS=Bistro Polaris at Black Star Farms 10844 E Revold Rd Suttons Bay MI United States;X-APPLE-RADIUS=500;X-TITLE=10844 E Revold Rd:geo:-85.633652,44.935797
END:VEVENT
BEGIN:VEVENT
DTSTART;TZID=America/New_York:20260425T183000
DTEND;TZID=America/New_York:20260425T193000
DTSTAMP:20260425T064437
CREATED:20260105T144947Z
LAST-MODIFIED:20260420T045930Z
UID:10000066-1777141800-1777145400@blackstarfarms.com
SUMMARY:Wine and Cheese Tasting Workshop
DESCRIPTION:Join us in discovering a delightful selection of artisan cheeses from the United States and beyond as our knowledgeable guide from Leelanau Cheese Company takes you on a journey through various cheese-making styles\, all perfectly complemented by the exquisite wines of Black Star Farms. \nThis is your opportunity to awaken your taste buds to the enchanting world of wine and cheese pairings while gaining insights into these two beautifully intertwined crafts. \nPurchase tickets here.
URL:https://blackstarfarms.com/experience/wine-cheese-tasting-workshop-7/
LOCATION:Black Star Farms Suttons Bay\, 10844 E Revold Rd\, Suttons Bay\, MI\, United States
CATEGORIES:Wine Events,Workshops
ATTACH;FMTTYPE=image/webp:https://e2zkddy7twc.exactdn.com/wp-content/uploads/2026/01/Wine-Cheese.webp
GEO:44.935797;-85.633652
X-APPLE-STRUCTURED-LOCATION;VALUE=URI;X-ADDRESS=Black Star Farms Suttons Bay 10844 E Revold Rd Suttons Bay MI United States;X-APPLE-RADIUS=500;X-TITLE=10844 E Revold Rd:geo:-85.633652,44.935797
END:VEVENT
END:VCALENDAR