BEGIN:VCALENDAR
VERSION:2.0
PRODID:-//Black Star Farms - ECPv6.15.20//NONSGML v1.0//EN
CALSCALE:GREGORIAN
METHOD:PUBLISH
X-ORIGINAL-URL:https://blackstarfarms.com
X-WR-CALDESC:Events for Black Star Farms
REFRESH-INTERVAL;VALUE=DURATION:PT1H
X-Robots-Tag:noindex
X-PUBLISHED-TTL:PT1H
BEGIN:VTIMEZONE
TZID:America/New_York
BEGIN:DAYLIGHT
TZOFFSETFROM:-0500
TZOFFSETTO:-0400
TZNAME:EDT
DTSTART:20250309T070000
END:DAYLIGHT
BEGIN:STANDARD
TZOFFSETFROM:-0400
TZOFFSETTO:-0500
TZNAME:EST
DTSTART:20251102T060000
END:STANDARD
BEGIN:DAYLIGHT
TZOFFSETFROM:-0500
TZOFFSETTO:-0400
TZNAME:EDT
DTSTART:20260308T070000
END:DAYLIGHT
BEGIN:STANDARD
TZOFFSETFROM:-0400
TZOFFSETTO:-0500
TZNAME:EST
DTSTART:20261101T060000
END:STANDARD
BEGIN:DAYLIGHT
TZOFFSETFROM:-0500
TZOFFSETTO:-0400
TZNAME:EDT
DTSTART:20270314T070000
END:DAYLIGHT
BEGIN:STANDARD
TZOFFSETFROM:-0400
TZOFFSETTO:-0500
TZNAME:EST
DTSTART:20271107T060000
END:STANDARD
END:VTIMEZONE
BEGIN:VEVENT
DTSTART;TZID=America/New_York:20260426T110000
DTEND;TZID=America/New_York:20260426T173000
DTSTAMP:20260421T004023
CREATED:20260129T215101Z
LAST-MODIFIED:20260227T181905Z
UID:10000370-1777201200-1777224600@blackstarfarms.com
SUMMARY:Sunday Funday + Happy Hour at the Tasting Rooms
DESCRIPTION:Enjoy exclusive Sunday-only specials. Our motto is that a “Sunday well spent brings a week of content!” \nAvailable at Suttons Bay and Old Mission locations! \nOffered All Day\n• $5 Mimosas\n• $10 Mimosa Flights\n• $10 Bloody Marys \nSunday Happy Hour 1 PM – 4 PM\n• 1/2 off Wines by the Glass\n• 1/2 off Bloody Marys\n• $5 Mimosas\n• $10 Mimosa Flights \n 
URL:https://blackstarfarms.com/experience/sunday-funday-at-the-tasting-rooms/2026-04-26/
CATEGORIES:Happy Hours
ATTACH;FMTTYPE=image/png:https://e2zkddy7twc.exactdn.com/wp-content/uploads/2026/01/Mimosas_Sunday-Funday.png
END:VEVENT
END:VCALENDAR